BEGIN:VCALENDAR
VERSION:2.0
PRODID:-//Tukios.com/
BEGIN:VEVENT
UID:aa29f44b-62e9-42c3-ab72-52659346d245@www.newcomertoledo.com
DTSTAMP:20260421T041548Z
DTSTART:20260423T150000Z
DTEND:20260423T170000Z
SUMMARY:Visitation
DESCRIPTION:
URL:https://www.newcomertoledo.com/obituaries/vertis-mommy-freeman
LOCATION: 4752 Heatherdowns Blvd  Toledo OH 43614
GEO:41.5950184;-83.654223
END:VEVENT
END:VCALENDAR