BEGIN:VCALENDAR
VERSION:2.0
PRODID:-//Tukios.com/
BEGIN:VEVENT
UID:9f63d765-0735-4c36-b6f7-98172103fb1b@www.newcomertoledo.com
DTSTAMP:20260423T212413Z
DTSTART:20260508T143000Z
DTEND:20260508T153000Z
SUMMARY:Mass
DESCRIPTION:
URL:https://www.newcomertoledo.com/obituaries/paul-stresen
LOCATION:Christ the King Church 6th Street  Toledo OH 43605
GEO:41.6450331;-83.5189335
END:VEVENT
END:VCALENDAR