BEGIN:VCALENDAR
VERSION:2.0
PRODID:-//Tukios.com/
BEGIN:VEVENT
UID:2bf01581-83ae-4994-916d-4344b8533e9b@www.newcomertoledo.com
DTSTAMP:20260423T212055Z
DTSTART:20260508T133000Z
DTEND:20260508T143000Z
SUMMARY:Visitation
DESCRIPTION:
URL:https://www.newcomertoledo.com/obituaries/paul-stresen
LOCATION:Christ the King Church 6th Street  Toledo OH 43605
GEO:41.6450331;-83.5189335
END:VEVENT
END:VCALENDAR