BEGIN:VCALENDAR
VERSION:2.0
PRODID:-//Tukios.com/
BEGIN:VEVENT
UID:f937f1a2-270d-476b-89f0-791a0884b0b6@www.newcomertoledo.com
DTSTAMP:20260424T230249Z
DTSTART:20260430T143000Z
DTEND:20260430T153000Z
SUMMARY:Funeral Service
DESCRIPTION:
URL:https://www.newcomertoledo.com/obituaries/mary-lou-fortney
LOCATION: 104 West Broadway Street  Maumee OH 43537
GEO:41.5604833;-83.6537119
END:VEVENT
END:VCALENDAR