BEGIN:VCALENDAR
VERSION:2.0
PRODID:-//Tukios.com/
BEGIN:VEVENT
UID:d30944b8-1331-43b2-9f57-c59c9de8e766@www.newcomertoledo.com
DTSTAMP:20260424T230300Z
DTSTART:20260429T190000Z
DTEND:20260429T230000Z
SUMMARY:Visitation
DESCRIPTION:
URL:https://www.newcomertoledo.com/obituaries/mary-lou-fortney
LOCATION:Newcomer SW Chapel 4752 Heatherdowns Boulevard  Toledo OH 43614
GEO:41.5950126;-83.6542234
END:VEVENT
END:VCALENDAR