BEGIN:VCALENDAR
VERSION:2.0
PRODID:-//Tukios.com/
BEGIN:VEVENT
UID:a38b612c-ae52-4912-af09-0ec723398ac2@www.newcomertoledo.com
DTSTAMP:20260422T195053Z
DTSTART:20260427T140000Z
DTEND:20260427T150000Z
SUMMARY:Mass
DESCRIPTION:
URL:https://www.newcomertoledo.com/obituaries/mary-brasher
LOCATION: 4201 Heatherdowns Blvd  Toledo OH 43614
GEO:41.5940823;-83.6419783
END:VEVENT
END:VCALENDAR