BEGIN:VCALENDAR
VERSION:2.0
PRODID:-//Tukios.com/
BEGIN:VEVENT
UID:2befd53b-22c2-4964-a838-4b304a8186ed@www.newcomertoledo.com
DTSTAMP:20260422T195531Z
DTSTART:20260426T190000Z
DTEND:20260427T000000Z
SUMMARY:Visitation
DESCRIPTION:
URL:https://www.newcomertoledo.com/obituaries/mary-brasher
LOCATION: 4752 Heatherdowns Blvd  Toledo OH 43614
GEO:41.5950184;-83.654223
END:VEVENT
END:VCALENDAR