BEGIN:VCALENDAR
VERSION:2.0
PRODID:-//Tukios.com/
BEGIN:VEVENT
UID:903c6927-96cc-4d09-a06f-ae50fe8b069e@www.newcomertoledo.com
DTSTAMP:20260420T091217Z
DTSTART:20260420T140000Z
DTEND:20260420T150000Z
SUMMARY:Mass
DESCRIPTION:
URL:https://www.newcomertoledo.com/obituaries/judith-gomer-woodward
LOCATION: 4201 Heatherdowns Blvd  Toledo OH 43614
GEO:41.5940823;-83.6419783
END:VEVENT
END:VCALENDAR