BEGIN:VCALENDAR
VERSION:2.0
PRODID:-//Tukios.com/
BEGIN:VEVENT
UID:cd59f9bb-ce6e-478c-84dc-230578a24856@www.newcomertoledo.com
DTSTAMP:20260420T222026Z
DTSTART:20260424T170000Z
DTEND:20260424T190000Z
SUMMARY:Celebration of Life
DESCRIPTION:
URL:https://www.newcomertoledo.com/obituaries/james-shull
LOCATION:Collingwood Presbyterian Church 2108 Collingwood Boulevard  
	Toledo OH 43620
GEO:41.662644;-83.5546106
END:VEVENT
END:VCALENDAR