BEGIN:VCALENDAR
VERSION:2.0
PRODID:-//Tukios.com/
BEGIN:VEVENT
UID:b0ab0cd4-2e6b-498b-a13f-a3f738dafd65@www.newcomertoledo.com
DTSTAMP:20260421T221259Z
DTSTART:20260425T153000Z
DTEND:20260425T163000Z
SUMMARY:Funeral Service
DESCRIPTION:
URL:https://www.newcomertoledo.com/obituaries/elijah-lemeuble
LOCATION:Newcomer Funeral Home - Southwest Chapel 4752 Heatherdowns 
	Boulevard  Toledo OH 43614
GEO:41.5950184;-83.654223
END:VEVENT
END:VCALENDAR