BEGIN:VCALENDAR
VERSION:2.0
PRODID:-//Tukios.com/
BEGIN:VEVENT
UID:6e8e9fcf-9e46-4671-801a-ba050e887275@www.newcomertoledo.com
DTSTAMP:20260421T220354Z
DTSTART:20260425T133000Z
DTEND:20260425T153000Z
SUMMARY:Visitation
DESCRIPTION:
URL:https://www.newcomertoledo.com/obituaries/elijah-lemeuble
LOCATION: 4752 Heatherdowns Blvd  Toledo OH 43614
GEO:41.5950184;-83.654223
END:VEVENT
END:VCALENDAR