BEGIN:VCALENDAR
VERSION:2.0
PRODID:-//Tukios.com/
BEGIN:VEVENT
UID:97214d88-4374-4475-acba-22a828f5616b@www.newcomertoledo.com
DTSTAMP:20260420T232739Z
DTSTART:20260428T150000Z
DTEND:20260428T160000Z
SUMMARY:Funeral Service
DESCRIPTION:
URL:https://www.newcomertoledo.com/obituaries/anna-russell
LOCATION: 4150 W Laskey Rd  Toledo OH 43623
GEO:41.7061233;-83.6436751
END:VEVENT
END:VCALENDAR