BEGIN:VCALENDAR
VERSION:2.0
PRODID:-//Tukios.com/
BEGIN:VEVENT
UID:8f81548a-85e8-4456-baea-256c54260c9c@www.newcomertoledo.com
DTSTAMP:20260420T232442Z
DTSTART:20260427T190000Z
DTEND:20260427T230000Z
SUMMARY:Visitation
DESCRIPTION:
URL:https://www.newcomertoledo.com/obituaries/anna-russell
LOCATION: 4150 W Laskey Rd  Toledo OH 43623
GEO:41.7061233;-83.6436751
END:VEVENT
END:VCALENDAR