BEGIN:VCALENDAR
VERSION:2.0
PRODID:-//Tukios.com/
BEGIN:VEVENT
UID:1a20c196-ccdd-443e-964b-1da6fc2cdbf7@www.newcomertoledo.com
DTSTAMP:20260421T174148Z
DTSTART:20260426T140000Z
DTEND:20260426T160000Z
SUMMARY:Funeral Service
DESCRIPTION:
URL:https://www.newcomertoledo.com/obituaries/achhar-bais
LOCATION: 3655 King Road  Toledo OH 43617
GEO:41.682072;-83.723873
END:VEVENT
END:VCALENDAR